

BEGIN:VCALENDAR
VERSION:2.0
PRODID:-//VeTSS - ECPv6.15.11//NONSGML v1.0//EN
CALSCALE:GREGORIAN
METHOD:PUBLISH
X-ORIGINAL-URL:https://vetss.org.uk
X-WR-CALDESC:Events for VeTSS
REFRESH-INTERVAL;VALUE=DURATION:PT1H
X-Robots-Tag:noindex
X-PUBLISHED-TTL:PT1H
BEGIN:VTIMEZONE
TZID:UTC
BEGIN:STANDARD
TZOFFSETFROM:+0000
TZOFFSETTO:+0000
TZNAME:UTC
DTSTART:20220101T000000
END:STANDARD
END:VTIMEZONE
BEGIN:VEVENT
DTSTART;VALUE=DATE:20230331
DTEND;VALUE=DATE:20230401
DTSTAMP:20260420T204341
CREATED:20240604T120611Z
LAST-MODIFIED:20240604T120647Z
UID:1856-1680220800-1680307199@vetss.org.uk
SUMMARY:Annual meeting 2023
DESCRIPTION:This was the first event on the VeTSS Seminar Series\, one-day meetings with talks and panel discussions. The aim  is to connect with VeTSS adjacent research\, such as AI\, Quantum Computing\, Security and Machine learning\, discuss state-of-the-art research and its open challenges and seek cross-pollination opportunities with VeTSS themes. \nTALKS (recording and abstracts)\n‘VeTSS: From Old to New’\,  Philippa Gardner\, Imperial College London \n‘On Operational Cyber Resilience’  Kerstin Eder\, University of Bristol \n‘Automatic verification of transparency protocols’\, Mark Ryan\, University of Birmingham with Vincent Cheval and José Moreira. ABSTRACT \n‘Security and Legacy at Microsoft’ Matthew Parkinson\, Microsoft Research. ABSTRACT \n‘Benchmarking and verifying quantum computers’\, Petros Wallden\, The University of Edinburgh. ABSTRACT \n‘Formal Verification and Bug Finding at Meta’\, Jules Villard\, Meta. ABSTRACT \n‘The Research Institute for Trustworthy Interconnected Cyber-physical Systems’\, Chris Hankin\, Imperial College London. ABSTRACT   \n‘Design and Verification of Time-Critical Byzantine Fault-Tolerant Systems’\, Vincent Rahli\, University of Birmingham. ABSTRACT \n‘CsmithEdge: More Effective Compiler Testing by Handling Undefined Behaviour Less Conservatively’\, Karine Even-Mendoza\, King’s College London. ABSTRACT \n‘Rust on Morello’\, Simon Cooksey\, University of Kent. ABSTRACT
URL:https://vetss.org.uk/event/annual-meeting-2023/
CATEGORIES:Annual Meetings
END:VEVENT
END:VCALENDAR